BEGIN:VCALENDAR
VERSION:2.0
PRODID:-//wp-events-plugin.com//6.4.6.4.1//EN
BEGIN:VEVENT
UID:825@rules.usga.org
DTSTART;TZID=America/New_York:20260428T120000
DTEND;TZID=America/New_York:20260429T130000
DTSTAMP:20260420T180842Z
URL:https://rules.usga.org/events/26301-usga-introductory-workshop-300-pm-
 et/
SUMMARY:26301 USGA Introductory Workshop - 3:00 PM ET
DESCRIPTION:  
ATTACH;FMTTYPE=image/jpeg:/wp-content/uploads/2023/10/intro_workshop_small
 .jpg
LOCATION:https://rules.usga.org/
END:VEVENT
BEGIN:VTIMEZONE
TZID:America/New_York
X-LIC-LOCATION:America/New_York
BEGIN:DAYLIGHT
DTSTART:20260308T030000
TZOFFSETFROM:-0500
TZOFFSETTO:-0400
TZNAME:EDT
END:DAYLIGHT
END:VTIMEZONE
END:VCALENDAR